BEGIN:VCALENDAR
VERSION:2.0
PRODID:-//Enhancing Engineering Education - ECPv6.15.20//NONSGML v1.0//EN
CALSCALE:GREGORIAN
METHOD:PUBLISH
X-WR-CALNAME:Enhancing Engineering Education
X-ORIGINAL-URL:https://palspgm.org
X-WR-CALDESC:Events for Enhancing Engineering Education
REFRESH-INTERVAL;VALUE=DURATION:PT1H
X-Robots-Tag:noindex
X-PUBLISHED-TTL:PT1H
BEGIN:VTIMEZONE
TZID:UTC
BEGIN:STANDARD
TZOFFSETFROM:+0000
TZOFFSETTO:+0000
TZNAME:UTC
DTSTART:20240101T000000
END:STANDARD
END:VTIMEZONE
BEGIN:VEVENT
DTSTART;TZID=UTC:20250628T100000
DTEND;TZID=UTC:20250628T100000
DTSTAMP:20260420T092440
CREATED:20250123T075759Z
LAST-MODIFIED:20250123T150639Z
UID:5733-1751104800-1751104800@palspgm.org
SUMMARY:Valediction Chennai
DESCRIPTION:VALEDICTION CHE
URL:https://palspgm.org/event/valediction-3/
LOCATION:IITM Campus\, Sardar Vallabhai Patel Rd\, Chennai\, Tamil Nadu\, 600036\, India
CATEGORIES:Online
END:VEVENT
BEGIN:VEVENT
DTSTART;TZID=UTC:20250614T100000
DTEND;TZID=UTC:20250614T100000
DTSTAMP:20260420T092440
CREATED:20250123T075759Z
LAST-MODIFIED:20250123T150818Z
UID:5732-1749895200-1749895200@palspgm.org
SUMMARY:Valediction HYD
DESCRIPTION:VALEDICTION HYDERABAD
URL:https://palspgm.org/event/valediction-2/
LOCATION:IITM Campus\, Sardar Vallabhai Patel Rd\, Chennai\, Tamil Nadu\, 600036\, India
CATEGORIES:Online
END:VEVENT
BEGIN:VEVENT
DTSTART;TZID=UTC:20250426T100000
DTEND;TZID=UTC:20250426T100000
DTSTAMP:20260420T092440
CREATED:20250123T075759Z
LAST-MODIFIED:20250123T150903Z
UID:5730-1745661600-1745661600@palspgm.org
SUMMARY:L2M CONCLAVE
DESCRIPTION:L2M CONCLAVE
URL:https://palspgm.org/event/l2m-conclave/
LOCATION:IITM Campus\, Sardar Vallabhai Patel Rd\, Chennai\, Tamil Nadu\, 600036\, India
CATEGORIES:Online
END:VEVENT
BEGIN:VEVENT
DTSTART;TZID=UTC:20250424T100000
DTEND;TZID=UTC:20250424T100000
DTSTAMP:20260420T092440
CREATED:20250123T075745Z
LAST-MODIFIED:20250123T150924Z
UID:5729-1745488800-1745488800@palspgm.org
SUMMARY:SL WORKSHOP
DESCRIPTION:SL WORKSHOP
URL:https://palspgm.org/event/sl-workshop/
LOCATION:IITM Campus\, Sardar Vallabhai Patel Rd\, Chennai\, Tamil Nadu\, 600036\, India
CATEGORIES:Online
END:VEVENT
BEGIN:VEVENT
DTSTART;TZID=UTC:20250324T100000
DTEND;TZID=UTC:20250325T000000
DTSTAMP:20260420T092440
CREATED:20250123T075744Z
LAST-MODIFIED:20250123T151026Z
UID:5726-1742810400-1742860800@palspgm.org
SUMMARY:Industry Assisted Lecture Series
DESCRIPTION:Industry Ass Lect Series
URL:https://palspgm.org/event/industry-ass-lect-series/
LOCATION:IITM Campus\, Sardar Vallabhai Patel Rd\, Chennai\, Tamil Nadu\, 600036\, India
CATEGORIES:Online
END:VEVENT
BEGIN:VEVENT
DTSTART;TZID=UTC:20250322T100000
DTEND;TZID=UTC:20250322T100000
DTSTAMP:20260420T092440
CREATED:20250123T075744Z
LAST-MODIFIED:20250123T151043Z
UID:5725-1742637600-1742637600@palspgm.org
SUMMARY:innoWAH! finals
DESCRIPTION:innoWAH! finals
URL:https://palspgm.org/event/innowah-finals/
LOCATION:IITM Campus\, Sardar Vallabhai Patel Rd\, Chennai\, Tamil Nadu\, 600036\, India
CATEGORIES:Online
END:VEVENT
BEGIN:VEVENT
DTSTART;TZID=UTC:20250311T090000
DTEND;TZID=UTC:20250313T000000
DTSTAMP:20260420T092440
CREATED:20250123T075729Z
LAST-MODIFIED:20250123T151203Z
UID:5722-1741683600-1741824000@palspgm.org
SUMMARY:FDP by TLC
DESCRIPTION:TLC IIT MADRAS
URL:https://palspgm.org/event/fdp-by-tlc/
LOCATION:IITM Campus\, Sardar Vallabhai Patel Rd\, Chennai\, Tamil Nadu\, 600036\, India
CATEGORIES:Online
END:VEVENT
BEGIN:VEVENT
DTSTART;TZID=UTC:20250311T090000
DTEND;TZID=UTC:20250311T090000
DTSTAMP:20260420T092440
CREATED:20250123T075729Z
LAST-MODIFIED:20250123T151249Z
UID:5723-1741683600-1741683600@palspgm.org
SUMMARY:ACDC REVIEW MEETING
DESCRIPTION:INDUSTRY DEEPCYAN
URL:https://palspgm.org/event/acdc-review-meeting/
LOCATION:IITM Campus\, Sardar Vallabhai Patel Rd\, Chennai\, Tamil Nadu\, 600036\, India
CATEGORIES:Online
END:VEVENT
BEGIN:VEVENT
DTSTART;TZID=UTC:20250307T100000
DTEND;TZID=UTC:20250307T100000
DTSTAMP:20260420T092440
CREATED:20250123T075729Z
LAST-MODIFIED:20250123T151320Z
UID:5721-1741341600-1741341600@palspgm.org
SUMMARY:LEADERSHIP SEMINAR
DESCRIPTION:WORKSHOP FOR SENIOR MANAGEMENT FROM PIS
URL:https://palspgm.org/event/leadership-seminar/
LOCATION:IITM Campus\, Sardar Vallabhai Patel Rd\, Chennai\, Tamil Nadu\, 600036\, India
CATEGORIES:Online
END:VEVENT
BEGIN:VEVENT
DTSTART;TZID=UTC:20250227T133000
DTEND;TZID=UTC:20250227T133000
DTSTAMP:20260420T092440
CREATED:20250123T145354Z
LAST-MODIFIED:20250123T145354Z
UID:5747-1740663000-1740663000@palspgm.org
SUMMARY:ACDC Review meeting
DESCRIPTION:ACDC Review meeting
URL:https://palspgm.org/event/acdc-review-meeting-4/
CATEGORIES:Online
END:VEVENT
BEGIN:VEVENT
DTSTART;TZID=UTC:20250226T133000
DTEND;TZID=UTC:20250228T000000
DTSTAMP:20260420T092440
CREATED:20250123T145354Z
LAST-MODIFIED:20250123T145354Z
UID:5748-1740576600-1740700800@palspgm.org
SUMMARY:FDP by TLC Batch 2
DESCRIPTION:FDP by TLC Batch 2
URL:https://palspgm.org/event/fdp-by-tlc-batch-2/
CATEGORIES:Online
END:VEVENT
BEGIN:VEVENT
DTSTART;TZID=UTC:20250225T133000
DTEND;TZID=UTC:20250225T133000
DTSTAMP:20260420T092440
CREATED:20250123T145339Z
LAST-MODIFIED:20250123T145339Z
UID:5745-1740490200-1740490200@palspgm.org
SUMMARY:Incubator Talks
DESCRIPTION:Incubator Talks
URL:https://palspgm.org/event/incubator-talks/
CATEGORIES:Online
END:VEVENT
BEGIN:VEVENT
DTSTART;TZID=UTC:20250219T133000
DTEND;TZID=UTC:20250221T000000
DTSTAMP:20260420T092440
CREATED:20250123T145338Z
LAST-MODIFIED:20250123T145338Z
UID:5743-1739971800-1740096000@palspgm.org
SUMMARY:FDP by Industry
DESCRIPTION:Faculty Development Program by Industry Experts
URL:https://palspgm.org/event/fdp-by-industry-4/
CATEGORIES:Online
END:VEVENT
BEGIN:VEVENT
DTSTART;TZID=UTC:20250215T133000
DTEND;TZID=UTC:20250215T133000
DTSTAMP:20260420T092440
CREATED:20250123T145338Z
LAST-MODIFIED:20250123T145338Z
UID:5741-1739626200-1739626200@palspgm.org
SUMMARY:ACDC Review meeting
DESCRIPTION:ACDC Review meeting
URL:https://palspgm.org/event/acdc-review-meeting-3/
CATEGORIES:Online
END:VEVENT
BEGIN:VEVENT
DTSTART;TZID=UTC:20250213T133000
DTEND;TZID=UTC:20250213T133000
DTSTAMP:20260420T092440
CREATED:20250123T145337Z
LAST-MODIFIED:20250123T145337Z
UID:5740-1739453400-1739453400@palspgm.org
SUMMARY:Ind Assit Lect Series -Session 4
DESCRIPTION:Ind Assit Lect Series -Session 1
URL:https://palspgm.org/event/ind-assit-lect-series-session-4/
CATEGORIES:Online
END:VEVENT
BEGIN:VEVENT
DTSTART;TZID=UTC:20250211T133000
DTEND;TZID=UTC:20250211T133000
DTSTAMP:20260420T092440
CREATED:20250123T145336Z
LAST-MODIFIED:20250123T145336Z
UID:5739-1739280600-1739280600@palspgm.org
SUMMARY:Ind Assit Lect Series -Session 3
DESCRIPTION:Ind Assit Lect Series -Session 1
URL:https://palspgm.org/event/ind-assit-lect-series-session-3/
CATEGORIES:Online
END:VEVENT
BEGIN:VEVENT
DTSTART;TZID=UTC:20250207T133000
DTEND;TZID=UTC:20250207T133000
DTSTAMP:20260420T092440
CREATED:20250123T145336Z
LAST-MODIFIED:20250123T145336Z
UID:5738-1738935000-1738935000@palspgm.org
SUMMARY:Ind Assit Lect Series -Session 2
DESCRIPTION:Ind Assit Lect Series -Session 1
URL:https://palspgm.org/event/ind-assit-lect-series-session-2/
CATEGORIES:Online
END:VEVENT
BEGIN:VEVENT
DTSTART;TZID=UTC:20250204T133000
DTEND;TZID=UTC:20250204T133000
DTSTAMP:20260420T092440
CREATED:20250123T145336Z
LAST-MODIFIED:20250123T145336Z
UID:5737-1738675800-1738675800@palspgm.org
SUMMARY:Ind Assit Lect Series -Session 1
DESCRIPTION:Ind Assit Lect Series -Session 1
URL:https://palspgm.org/event/ind-assit-lect-series-session-1/
CATEGORIES:Online
END:VEVENT
BEGIN:VEVENT
DTSTART;TZID=UTC:20250123T100000
DTEND;TZID=UTC:20250124T000000
DTSTAMP:20260420T092440
CREATED:20250123T075712Z
LAST-MODIFIED:20250123T075712Z
UID:5712-1737626400-1737676800@palspgm.org
SUMMARY:FDP by Industry
DESCRIPTION:Faculty Development Program by Industry Experts on DEMYSTIFYING AI AND DATA SCIENCE – INTRODUCTION\, CONCEPTS\, AND REAL-WORLD APPLICATIONS
URL:https://palspgm.org/event/fdp-by-industry-2/
LOCATION:Kanchipuram
CATEGORIES:Online
END:VEVENT
END:VCALENDAR